BEGIN:VCALENDAR
VERSION:2.0
PRODID:-//North Duffield Parish Council//Meeting Calendar//EN
CALSCALE:GREGORIAN
METHOD:PUBLISH
BEGIN:VEVENT
UID:70442-20230518@northduffieldparishcouncil.gov.uk
DTSTAMP:20260423T085023Z
DTSTART;VALUE=DATE:20230518
DTEND;VALUE=DATE:20230519
SUMMARY:Annual Parish Meeting &#8211\\; 2023
DESCRIPTION:Annual Parish Meeting\nView details: https://northduffieldparishcouncil.gov.uk/meetings/annual-parish-meeting-2023/
URL:https://northduffieldparishcouncil.gov.uk/meetings/annual-parish-meeting-2023/
END:VEVENT
END:VCALENDAR
