BEGIN:VCALENDAR
VERSION:2.0
PRODID:-//North Duffield Parish Council//Meeting Calendar//EN
CALSCALE:GREGORIAN
METHOD:PUBLISH
BEGIN:VEVENT
UID:70453-20210503@northduffieldparishcouncil.gov.uk
DTSTAMP:20260419T130141Z
DTSTART;VALUE=DATE:20210503
DTEND;VALUE=DATE:20210504
SUMMARY:Annual Parish Meeting &#8211\\; 2021
DESCRIPTION:Annual Parish Meeting\nView details: https://northduffieldparishcouncil.gov.uk/meetings/annual-parish-meeting-2021/
URL:https://northduffieldparishcouncil.gov.uk/meetings/annual-parish-meeting-2021/
END:VEVENT
END:VCALENDAR
